BEGIN:VCALENDAR
VERSION:2.0
PRODID:-//FinanceEstonia //NONSGML Events //EN
CALSCALE:GREGORIAN
X-WR-CALNAME:FinanceEstonia
BEGIN:VEVENT
CREATED:20210921T095229Z
UID:11377
DTEND;TZID=Europe/Tallinn:20260421T113810
DTSTART;TZID=Europe/Tallinn:20260421T113810
DTSTAMP;TZID=Europe/Tallinn:20260421T083810
LOCATION:
DESCRIPTION:Signing a Memorandum of Understanding. The signatories of the MoU will become the new EU Roundtable of Financial Centers and Federations members and agree to the new governance principles. Sessions with EU institutions, followed by a joint dinner.  
SUMMARY:EU Roundtable of Financial Centers and Federations
URL;VALUE=URI:https://financeestonia.eu/sundmus/eu-roundtable-of-financial-centers-and-federations/
TRANSP:OPAQUE
BEGIN:VALARM
ACTION:DISPLAY
TRIGGER;TZID=Europe/Tallinn:19691231T000000
DESCRIPTION:Reminder for EU Roundtable of Financial Centers and Federations
END:VALARM
END:VEVENT
END:VCALENDAR
