BEGIN:VCALENDAR
VERSION:2.0
PRODID:-//FinanceEstonia //NONSGML Events //EN
CALSCALE:GREGORIAN
X-WR-CALNAME:FinanceEstonia
BEGIN:VEVENT
CREATED:20210920T113034Z
UID:11374
DTEND;TZID=Europe/Tallinn:20260421T112408
DTSTART;TZID=Europe/Tallinn:20260421T112408
DTSTAMP;TZID=Europe/Tallinn:20260421T082408
LOCATION:
DESCRIPTION:Rahapesu ja terrorismi rahastamise tõkestamise turuosaliste nõukoja koosolek toimub &lt;strong&gt;7. oktoobril kell 14.00-16.00.&lt;/strong&gt; Koosoleku teemad: NRA kinnitatud tegevuskava, EL rahapesu tõkestamise pakett 2011, TEKSA.
SUMMARY:Rahapesu ja terrorismi rahastamise tõkestamise turuosaliste nõukoja koosolek
URL;VALUE=URI:https://financeestonia.eu/sundmus/rahapesu-ja-terrorismi-rahastamise-tokestamise-turuosaliste-noukoja-koosolek-2/
TRANSP:OPAQUE
BEGIN:VALARM
ACTION:DISPLAY
TRIGGER;TZID=Europe/Tallinn:19691231T000000
DESCRIPTION:Reminder for Rahapesu ja terrorismi rahastamise tõkestamise turuosaliste nõukoja koosolek
END:VALARM
END:VEVENT
END:VCALENDAR
