BEGIN:VCALENDAR
VERSION:2.0
PRODID:-//FinanceEstonia //NONSGML Events //EN
CALSCALE:GREGORIAN
X-WR-CALNAME:FinanceEstonia
BEGIN:VEVENT
CREATED:20210920T110904Z
UID:11369
DTEND;TZID=Europe/Tallinn:20260421T113809
DTSTART;TZID=Europe/Tallinn:20260421T113809
DTSTAMP;TZID=Europe/Tallinn:20260421T083809
LOCATION:
DESCRIPTION:Teisipäeval, &lt;strong&gt;21. septembril&lt;/strong&gt; &lt;strong&gt;algusega kell 12&lt;/strong&gt; arutavad Eesti pankade makroanalüütikud selle üle,  millises olukorras on Eesti ja maailma majandus. Maailma ja Eesti majandus on Ameerika mägedel, kus järsule langusele on järgnenud ülijõuline tõus – mis edasi? Kas kinnisvaraturul on käimas öölaulupidu, nagu viitas äsja Viljar Arakas ja mis võiks juhtuda peojärgsel hommikul? Raha otsib inflatsiooni kartes sadamat, aga kuhu see siis jõuda võiks? Mida võiks lähiajal oodata euriborilt ja kas elektri hind jääbki kasvama?  Oleme vastu minemas aasta lõpule, mille üheks peamiseks märksõnaks on endiselt pandeemia, selle kõrval aga ka muutused suurriikide välispoliitikas, rohepööre, Reformierakonna ja Keskerakonna valitsuse esimese ühise eelarve kokkupanek ning palju muudki. Arutelul osalevad &lt;strong&gt;Tõnu Mertsina&lt;/strong&gt; Swedbankist, &lt;strong&gt;Mihkel Nestor&lt;/strong&gt; SEB-st, &lt;strong&gt;Kristo Aab&lt;/strong&gt; LHV Pangast ja &lt;strong&gt;Tõnu Palm&lt;/strong&gt; Luminor Eestist. Arutelu juhib ERR uudiste toimetaja &lt;strong&gt;Huko Aaspõllu&lt;/strong&gt;. &lt;a href=&quot;https://teams.microsoft.com/l/meetup-join/19%3ameeting_N2UzNDM4ZTUtMjEyZS00OWJiLWFjYjgtYjQzNGZjNDlhMzRh%40thread.v2/0?context=%7b%22Tid%22%3a%221e2b8b55-b38b-4ae0-89af-de1dc0bd2f0b%22%2c%22Oid%22%3a%22d81a564d-52ff-409b-8e98-d20060d74f5a%22%7d&quot; target=&quot;_blank&quot; rel=&quot;noopener noreferrer&quot;&gt;Click here to join the meeting&lt;/a&gt;
SUMMARY:Pankade makroanalüütikud Eesti ja maailma majanduse tänasest olukorrast ja tulevikust
URL;VALUE=URI:https://financeestonia.eu/sundmus/pankade-makroanaluutikud-eesti-ja-maailma-majanduse-tanasest-olukorrast-ja-tulevikust/
TRANSP:OPAQUE
BEGIN:VALARM
ACTION:DISPLAY
TRIGGER;TZID=Europe/Tallinn:19691231T000000
DESCRIPTION:Reminder for Pankade makroanalüütikud Eesti ja maailma majanduse tänasest olukorrast ja tulevikust
END:VALARM
END:VEVENT
END:VCALENDAR
