BEGIN:VCALENDAR
VERSION:2.0
PRODID:-//FinanceEstonia //NONSGML Events //EN
CALSCALE:GREGORIAN
X-WR-CALNAME:FinanceEstonia
BEGIN:VEVENT
CREATED:20210325T111337Z
UID:11046
DTEND;TZID=Europe/Tallinn:20260421T112147
DTSTART;TZID=Europe/Tallinn:20260421T112147
DTSTAMP;TZID=Europe/Tallinn:20260421T082147
LOCATION:
DESCRIPTION:Discussion on the European Commission project to combine Crowdfunding and ESIF funds.
SUMMARY:CrowdfundingHub Advisory Board meeting
URL;VALUE=URI:https://financeestonia.eu/sundmus/crowdfundinghub-advisory-board-meeting/
TRANSP:OPAQUE
BEGIN:VALARM
ACTION:DISPLAY
TRIGGER;TZID=Europe/Tallinn:19691231T000000
DESCRIPTION:Reminder for CrowdfundingHub Advisory Board meeting
END:VALARM
END:VEVENT
END:VCALENDAR
