BEGIN:VCALENDAR
VERSION:2.0
PRODID:-//FinanceEstonia //NONSGML Events //EN
CALSCALE:GREGORIAN
X-WR-CALNAME:FinanceEstonia
BEGIN:VEVENT
CREATED:20210325T103100Z
UID:11040
DTEND;TZID=Europe/Tallinn:20260423T003424
DTSTART;TZID=Europe/Tallinn:20260423T003424
DTSTAMP;TZID=Europe/Tallinn:20260422T213424
LOCATION:
DESCRIPTION:Koostöö Eesti finantssektori konkurentsivõime tõstmisel.
SUMMARY:Kohtumine Asutajate Seltsi ja Startup Estoniaga
URL;VALUE=URI:https://financeestonia.eu/sundmus/kohtumine-asutajate-seltsi-ja-startup-estoniaga/
TRANSP:OPAQUE
BEGIN:VALARM
ACTION:DISPLAY
TRIGGER;TZID=Europe/Tallinn:19691231T000000
DESCRIPTION:Reminder for Kohtumine Asutajate Seltsi ja Startup Estoniaga
END:VALARM
END:VEVENT
END:VCALENDAR
