BEGIN:VCALENDAR
VERSION:2.0
PRODID:-//FinanceEstonia //NONSGML Events //EN
CALSCALE:GREGORIAN
X-WR-CALNAME:FinanceEstonia
BEGIN:VEVENT
CREATED:20200430T063353Z
UID:10331
DTEND;TZID=Europe/Tallinn:20260421T131228
DTSTART;TZID=Europe/Tallinn:20260421T131228
DTSTAMP;TZID=Europe/Tallinn:20260421T101228
LOCATION:
DESCRIPTION:&lt;table width=&quot;100%&quot;&gt;
&lt;tbody&gt;
&lt;tr&gt;
&lt;td width=&quot;100%&quot;&gt;   EY eksperdid annavad teemast ülevaate ja võimalik on esitada ka küsimusi.&lt;/td&gt;
&lt;/tr&gt;
&lt;tr&gt;
&lt;td&gt;&lt;/td&gt;
&lt;/tr&gt;
&lt;/tbody&gt;
&lt;/table&gt;
&lt;table width=&quot;100%&quot;&gt;
&lt;tbody&gt;
&lt;tr&gt;
&lt;td width=&quot;100%&quot;&gt;
&lt;table width=&quot;100%&quot;&gt;
&lt;tbody&gt;
&lt;tr&gt;
&lt;td colspan=&quot;3&quot;&gt;&lt;/td&gt;
&lt;/tr&gt;
&lt;tr&gt;
&lt;td width=&quot;10&quot;&gt;
&lt;table width=&quot;10&quot;&gt;
&lt;tbody&gt;
&lt;tr&gt;
&lt;td width=&quot;10&quot;&gt;&lt;/td&gt;
&lt;/tr&gt;
&lt;/tbody&gt;
&lt;/table&gt;
&lt;/td&gt;
&lt;td width=&quot;100%&quot;&gt;
&lt;h1&gt;Webinarist&lt;/h1&gt;
&lt;/td&gt;
&lt;td width=&quot;10&quot;&gt;
&lt;table width=&quot;10&quot;&gt;
&lt;tbody&gt;
&lt;tr&gt;
&lt;td width=&quot;10&quot;&gt;&lt;/td&gt;
&lt;/tr&gt;
&lt;/tbody&gt;
&lt;/table&gt;
&lt;/td&gt;
&lt;/tr&gt;
&lt;tr&gt;
&lt;td colspan=&quot;3&quot;&gt;&lt;/td&gt;
&lt;/tr&gt;
&lt;/tbody&gt;
&lt;/table&gt;
&lt;/td&gt;
&lt;/tr&gt;
&lt;tr&gt;
&lt;td&gt;&lt;/td&gt;
&lt;/tr&gt;
&lt;/tbody&gt;
&lt;/table&gt;
&lt;table width=&quot;100%&quot;&gt;
&lt;tbody&gt;
&lt;tr&gt;
&lt;td width=&quot;100%&quot;&gt; &lt;strong&gt;&lt;u&gt;Millal?&lt;/u&gt;&lt;/strong&gt;&lt;strong&gt; &lt;/strong&gt;07. mai kell 14.00 &lt;strong&gt;&lt;u&gt;Mis keeles?&lt;/u&gt;&lt;/strong&gt; Inglise keeles &lt;strong&gt;&lt;u&gt;Kuidas toimub?&lt;/u&gt;&lt;/strong&gt; Teams Live Event, &lt;strong&gt;tasuta&lt;/strong&gt;   &lt;strong&gt;Teemad&lt;/strong&gt; ·         Järelevalveorganite seisukohad eeldatava krediidikahju arvutamise küsimuses ·         Rahvusvaheliste Raamatupidamisstandardite Nõukogu (IASB) seisukoht ·         Euroopa Pangandusjärelevalve suunised laenumaksete moratooriumide kohta ·         Mida teevad pangad? ·         Pankade prognoositud stsenaariumid&lt;/td&gt;
&lt;/tr&gt;
&lt;tr&gt;
&lt;td&gt;&lt;/td&gt;
&lt;/tr&gt;
&lt;/tbody&gt;
&lt;/table&gt;
&lt;table width=&quot;100%&quot;&gt;
&lt;tbody&gt;
&lt;tr&gt;
&lt;td width=&quot;100%&quot;&gt;
&lt;table width=&quot;100%&quot;&gt;
&lt;tbody&gt;
&lt;tr&gt;
&lt;td colspan=&quot;3&quot;&gt;&lt;/td&gt;
&lt;/tr&gt;
&lt;tr&gt;
&lt;td width=&quot;10&quot;&gt;
&lt;table width=&quot;10&quot;&gt;
&lt;tbody&gt;
&lt;tr&gt;
&lt;td width=&quot;10&quot;&gt;&lt;/td&gt;
&lt;/tr&gt;
&lt;/tbody&gt;
&lt;/table&gt;
&lt;/td&gt;
&lt;td width=&quot;100%&quot;&gt;
&lt;h1&gt;Esinejad&lt;/h1&gt;
&lt;/td&gt;
&lt;td width=&quot;10&quot;&gt;
&lt;table width=&quot;10&quot;&gt;
&lt;tbody&gt;
&lt;tr&gt;
&lt;td width=&quot;10&quot;&gt;&lt;/td&gt;
&lt;/tr&gt;
&lt;/tbody&gt;
&lt;/table&gt;
&lt;/td&gt;
&lt;/tr&gt;
&lt;tr&gt;
&lt;td colspan=&quot;3&quot;&gt;&lt;/td&gt;
&lt;/tr&gt;
&lt;/tbody&gt;
&lt;/table&gt;
&lt;/td&gt;
&lt;/tr&gt;
&lt;tr&gt;
&lt;td&gt;&lt;/td&gt;
&lt;/tr&gt;
&lt;/tbody&gt;
&lt;/table&gt;
&lt;table width=&quot;100%&quot;&gt;
&lt;tbody&gt;
&lt;tr&gt;
&lt;td width=&quot;100%&quot;&gt; &lt;strong&gt;Olesia Abramova&lt;/strong&gt; - moderaator, EY Eesti auditiosakonna partner &lt;strong&gt;Gelu Gherghescu&lt;/strong&gt; - esineja, EY Rumeenia auditiosakonna partner &lt;strong&gt;Razvan Pirnac&lt;/strong&gt; - esineja, EY Rumeenia FAAS ekspert &lt;strong&gt;Riina Alt&lt;/strong&gt; - vastab küsimustele, EY Eesti IFRS ekspert&lt;/td&gt;
&lt;/tr&gt;
&lt;tr&gt;
&lt;td&gt;&lt;/td&gt;
&lt;/tr&gt;
&lt;/tbody&gt;
&lt;/table&gt;
&lt;table width=&quot;100%&quot;&gt;
&lt;tbody&gt;
&lt;tr&gt;
&lt;td width=&quot;100%&quot;&gt;
&lt;table width=&quot;100%&quot;&gt;
&lt;tbody&gt;
&lt;tr&gt;
&lt;td colspan=&quot;3&quot;&gt;&lt;/td&gt;
&lt;/tr&gt;
&lt;tr&gt;
&lt;td width=&quot;10&quot;&gt;
&lt;table width=&quot;10&quot;&gt;
&lt;tbody&gt;
&lt;tr&gt;
&lt;td width=&quot;10&quot;&gt;&lt;/td&gt;
&lt;/tr&gt;
&lt;/tbody&gt;
&lt;/table&gt;
&lt;/td&gt;
&lt;td width=&quot;100%&quot;&gt;
&lt;h1&gt;Registreeru webinarile &lt;a href=&quot;https://emeia.ey-vx.com/api/email/handler?sid=blankform&amp;redirect=https%3a%2f%2femeia.ey-vx.com%2f1966%2f140961%2flanding-pages%2fregistreerimisvorm_draft.asp&quot;&gt;siin&lt;/a&gt;&lt;/h1&gt;
&lt;/td&gt;
&lt;td width=&quot;10&quot;&gt;
&lt;table width=&quot;10&quot;&gt;
&lt;tbody&gt;
&lt;tr&gt;
&lt;td width=&quot;10&quot;&gt;&lt;/td&gt;
&lt;/tr&gt;
&lt;/tbody&gt;
&lt;/table&gt;
&lt;/td&gt;
&lt;/tr&gt;
&lt;tr&gt;
&lt;td colspan=&quot;3&quot;&gt;&lt;/td&gt;
&lt;/tr&gt;
&lt;/tbody&gt;
&lt;/table&gt;
&lt;/td&gt;
&lt;/tr&gt;
&lt;tr&gt;
&lt;td&gt;&lt;/td&gt;
&lt;/tr&gt;
&lt;/tbody&gt;
&lt;/table&gt;
 
SUMMARY:EY webinar: Muutused laenude allahindamise põhimõtetes
URL;VALUE=URI:https://financeestonia.eu/sundmus/ey-webinar-muutused-laenude-allahindamise-pohimotetes/
TRANSP:OPAQUE
BEGIN:VALARM
ACTION:DISPLAY
TRIGGER;TZID=Europe/Tallinn:19691231T000000
DESCRIPTION:Reminder for EY webinar: Muutused laenude allahindamise põhimõtetes
END:VALARM
END:VEVENT
END:VCALENDAR
