BEGIN:VCALENDAR
VERSION:2.0
PRODID:-//FinanceEstonia //NONSGML Events //EN
CALSCALE:GREGORIAN
X-WR-CALNAME:FinanceEstonia
BEGIN:VEVENT
CREATED:20200130T112346Z
UID:10159
DTEND;TZID=Europe/Tallinn:20260421T112355
DTSTART;TZID=Europe/Tallinn:20260421T112355
DTSTAMP;TZID=Europe/Tallinn:20260421T082355
LOCATION:
DESCRIPTION:&lt;strong&gt;19.02.2020 kell 15.00-17.00 toimub Eesti Panga (Estonia pst 13) finantsinnovatsiooni ümarlaud, et üheskoos kaardistada eri asutustele olulisi finantsinnovatsiooni teemasid ning otsustada edasine tegevuskava. &lt;/strong&gt; Teemad: keskpanga digiraha, piiriülesed maksed ja maksesüsteemide kübervastupanu, krüptovarad, suurandmete kasutamine, &lt;em&gt;regtech&lt;/em&gt;, &lt;em&gt;suptech&lt;/em&gt; ning panganduse uued rahastusplatvormid. Kaasatavad institutsioonid: Finantsinspektsioon, rahandusministeerium, majandus- ja kommunikatsiooniministeerium, FinanceEstonia, Ettevõtluse Arendamise Sihtasutus ning KredEx. Vastavalt valitud teemadele kutsutakse ümarlauale teiste institutsioonide esindajaid ja turuosalisi.    
SUMMARY:Eesti Panga finantsinnovatsiooni ümarlaud
URL;VALUE=URI:https://financeestonia.eu/sundmus/eesti-panga-finantsinnovatsiooni-umarlaud/
TRANSP:OPAQUE
BEGIN:VALARM
ACTION:DISPLAY
TRIGGER;TZID=Europe/Tallinn:19691231T000000
DESCRIPTION:Reminder for Eesti Panga finantsinnovatsiooni ümarlaud
END:VALARM
END:VEVENT
END:VCALENDAR
