BEGIN:VCALENDAR
VERSION:2.0
PRODID:-//FinanceEstonia //NONSGML Events //EN
CALSCALE:GREGORIAN
X-WR-CALNAME:FinanceEstonia
BEGIN:VEVENT
CREATED:20200128T174946Z
UID:10155
DTEND;TZID=Europe/Tallinn:20260422T215929
DTSTART;TZID=Europe/Tallinn:20260422T215929
DTSTAMP;TZID=Europe/Tallinn:20260422T185929
LOCATION:
DESCRIPTION:Pettuste tõkestamise töörühma avakoosolek toimub&lt;span class=&quot;Apple-converted-space&quot;&gt; &lt;/span&gt;&lt;b class=&quot;&quot;&gt;teisipäeval, 11. veebruaril kell 10-12&lt;/b&gt;&lt;span class=&quot;Apple-converted-space&quot;&gt; &lt;/span&gt;advokaadibüroos FORT, A. Lauteri 5, 2. korrus.
&lt;div class=&quot;&quot;&gt;&lt;/div&gt;
&lt;div class=&quot;&quot;&gt;Töörühma eesmärk on petturite rünnakute analüüsimine ja rünnakute tõkestamiseks vajalike meetmete kaardistamine ning vajadusel rakendamine.&lt;/div&gt;
&lt;div class=&quot;&quot;&gt;&lt;/div&gt;
&lt;div class=&quot;&quot;&gt;Koosolekul arutame ja paneme paika töörühma tegutsemispõhimõtted:&lt;/div&gt;
&lt;div class=&quot;&quot;&gt;
&lt;ul class=&quot;MailOutline&quot;&gt; &lt;li class=&quot;&quot;&gt;&lt;span class=&quot;&quot;&gt;info vahetamine reaalsete juhtumite osas&lt;/span&gt;&lt;/li&gt; &lt;li class=&quot;&quot;&gt;&lt;span class=&quot;&quot;&gt;pettuste tõkestamiseks vajalike meetmete kaardistamine &lt;/span&gt;&lt;/li&gt; &lt;li class=&quot;&quot;&gt;&lt;span class=&quot;&quot;&gt;omavaheline koostöö&lt;/span&gt;&lt;/li&gt; &lt;li class=&quot;&quot;&gt;&lt;span class=&quot;&quot;&gt;kaasatavad institutsioonid ja &lt;/span&gt;&lt;span class=&quot;&quot;&gt;koostöö õiguskaitseorganitega&lt;/span&gt;&lt;/li&gt; &lt;li class=&quot;&quot;&gt;&lt;span class=&quot;&quot;&gt;koolitajate leidmine ja kaasamine&lt;/span&gt;&lt;/li&gt; &lt;li class=&quot;&quot;&gt;&lt;span class=&quot;&quot;&gt;praktilise töö korraldus jne&lt;/span&gt;&lt;/li&gt;
&lt;/ul&gt;
&lt;/div&gt;
&lt;div class=&quot;&quot;&gt;&lt;/div&gt;
&lt;div class=&quot;&quot;&gt;Ootame teid kõiki aktiivselt kaasa mõtlema!&lt;/div&gt;
&lt;div class=&quot;&quot;&gt;
&lt;div class=&quot;&quot;&gt;&lt;/div&gt;
&lt;div class=&quot;&quot;&gt;Palun andke oma osalemisest teada &lt;a class=&quot;&quot; href=&quot;https://forms.gle/s5B37UZVGkjwjmBt8&quot;&gt;&lt;b class=&quot;&quot;&gt;SIIN&lt;/b&gt;&lt;/a&gt;.&lt;/div&gt;
&lt;div class=&quot;&quot;&gt;&lt;/div&gt;
&lt;/div&gt;
SUMMARY:Pettuste tõkestamise töörühma koosolek
URL;VALUE=URI:https://financeestonia.eu/sundmus/pettuste-tokestamise-tooruhma-koosolek/
TRANSP:OPAQUE
BEGIN:VALARM
ACTION:DISPLAY
TRIGGER;TZID=Europe/Tallinn:19691231T000000
DESCRIPTION:Reminder for Pettuste tõkestamise töörühma koosolek
END:VALARM
END:VEVENT
END:VCALENDAR
