BEGIN:VCALENDAR
VERSION:2.0
PRODID:-//FinanceEstonia //NONSGML Events //EN
CALSCALE:GREGORIAN
X-WR-CALNAME:FinanceEstonia
BEGIN:VEVENT
CREATED:20200109T165538Z
UID:10122
DTEND;TZID=Europe/Tallinn:20260421T113644
DTSTART;TZID=Europe/Tallinn:20260421T113644
DTSTAMP;TZID=Europe/Tallinn:20260421T083644
LOCATION:
DESCRIPTION:
SUMMARY:Money 20/20 osalejate koosolek
URL;VALUE=URI:https://financeestonia.eu/sundmus/money-20-20-osalejate-koosolek/
TRANSP:OPAQUE
BEGIN:VALARM
ACTION:DISPLAY
TRIGGER;TZID=Europe/Tallinn:19691231T000000
DESCRIPTION:Reminder for Money 20/20 osalejate koosolek
END:VALARM
END:VEVENT
END:VCALENDAR
