BEGIN:VCALENDAR
VERSION:2.0
PRODID:-//FinanceEstonia //NONSGML Events //EN
CALSCALE:GREGORIAN
X-WR-CALNAME:FinanceEstonia
BEGIN:VEVENT
CREATED:20191209T101623Z
UID:10003
DTEND;TZID=Europe/Tallinn:20260421T130822
DTSTART;TZID=Europe/Tallinn:20260421T130822
DTSTAMP;TZID=Europe/Tallinn:20260421T100822
LOCATION:
DESCRIPTION:Arutelu pensionireformi teemadel.    
SUMMARY:Kohtumine Keskerakonna fraktsiooniga
URL;VALUE=URI:https://financeestonia.eu/sundmus/kohtumine-keskerakonna-fraktsiooniga-2/
TRANSP:OPAQUE
BEGIN:VALARM
ACTION:DISPLAY
TRIGGER;TZID=Europe/Tallinn:19691231T000000
DESCRIPTION:Reminder for Kohtumine Keskerakonna fraktsiooniga
END:VALARM
END:VEVENT
END:VCALENDAR
